BEGIN:VCALENDAR
VERSION:2.0
PRODID:-//Burlington Chamber of Commerce - ECPv6.15.20//NONSGML v1.0//EN
CALSCALE:GREGORIAN
METHOD:PUBLISH
X-WR-CALNAME:Burlington Chamber of Commerce
X-ORIGINAL-URL:https://www.burlingtonctchamber.org
X-WR-CALDESC:Events for Burlington Chamber of Commerce
REFRESH-INTERVAL;VALUE=DURATION:PT1H
X-Robots-Tag:noindex
X-PUBLISHED-TTL:PT1H
BEGIN:VTIMEZONE
TZID:America/New_York
BEGIN:DAYLIGHT
TZOFFSETFROM:-0500
TZOFFSETTO:-0400
TZNAME:EDT
DTSTART:20230312T070000
END:DAYLIGHT
BEGIN:STANDARD
TZOFFSETFROM:-0400
TZOFFSETTO:-0500
TZNAME:EST
DTSTART:20231105T060000
END:STANDARD
BEGIN:DAYLIGHT
TZOFFSETFROM:-0500
TZOFFSETTO:-0400
TZNAME:EDT
DTSTART:20240310T070000
END:DAYLIGHT
BEGIN:STANDARD
TZOFFSETFROM:-0400
TZOFFSETTO:-0500
TZNAME:EST
DTSTART:20241103T060000
END:STANDARD
BEGIN:DAYLIGHT
TZOFFSETFROM:-0500
TZOFFSETTO:-0400
TZNAME:EDT
DTSTART:20250309T070000
END:DAYLIGHT
BEGIN:STANDARD
TZOFFSETFROM:-0400
TZOFFSETTO:-0500
TZNAME:EST
DTSTART:20251102T060000
END:STANDARD
END:VTIMEZONE
BEGIN:VEVENT
DTSTART;TZID=America/New_York:20240814T170000
DTEND;TZID=America/New_York:20240814T190000
DTSTAMP:20260419T165714
CREATED:20240701T151451Z
LAST-MODIFIED:20240701T151451Z
UID:9417-1723654800-1723662000@www.burlingtonctchamber.org
SUMMARY:Member Appreciation Picnic
DESCRIPTION:As a special THANK YOU to our amazing membership\, we invite you to enjoy an evening of fun with your fellow Chamber members at the beautiful Camp Courant in Farmington! There will be Food Trucks\, Drinks\, Dessert\, Games\, a Raffle\, and more. \nThis event is limited to the first 150 people registered and no more than two registrants per business.
URL:https://www.burlingtonctchamber.org/event/member-appreciation-picnic/
LOCATION:Hartford’s Camp Courant\, 96 Batterson Park Rd\, Farmington\, CT\, 06032
CATEGORIES:CCCC
ORGANIZER;CN="Central CT Chambers of Commerce":MAILTO:info@centralctchambers.org
END:VEVENT
END:VCALENDAR