BEGIN:VCALENDAR
VERSION:2.0
PRODID:-//Burlington Chamber of Commerce - ECPv6.15.20//NONSGML v1.0//EN
CALSCALE:GREGORIAN
METHOD:PUBLISH
X-WR-CALNAME:Burlington Chamber of Commerce
X-ORIGINAL-URL:https://www.burlingtonctchamber.org
X-WR-CALDESC:Events for Burlington Chamber of Commerce
REFRESH-INTERVAL;VALUE=DURATION:PT1H
X-Robots-Tag:noindex
X-PUBLISHED-TTL:PT1H
BEGIN:VTIMEZONE
TZID:America/New_York
BEGIN:DAYLIGHT
TZOFFSETFROM:-0500
TZOFFSETTO:-0400
TZNAME:EDT
DTSTART:20240310T070000
END:DAYLIGHT
BEGIN:STANDARD
TZOFFSETFROM:-0400
TZOFFSETTO:-0500
TZNAME:EST
DTSTART:20241103T060000
END:STANDARD
BEGIN:DAYLIGHT
TZOFFSETFROM:-0500
TZOFFSETTO:-0400
TZNAME:EDT
DTSTART:20250309T070000
END:DAYLIGHT
BEGIN:STANDARD
TZOFFSETFROM:-0400
TZOFFSETTO:-0500
TZNAME:EST
DTSTART:20251102T060000
END:STANDARD
BEGIN:DAYLIGHT
TZOFFSETFROM:-0500
TZOFFSETTO:-0400
TZNAME:EDT
DTSTART:20260308T070000
END:DAYLIGHT
BEGIN:STANDARD
TZOFFSETFROM:-0400
TZOFFSETTO:-0500
TZNAME:EST
DTSTART:20261101T060000
END:STANDARD
END:VTIMEZONE
BEGIN:VEVENT
DTSTART;TZID=America/New_York:20250911T170000
DTEND;TZID=America/New_York:20250911T190000
DTSTAMP:20260421T135743
CREATED:20250418T180857Z
LAST-MODIFIED:20250418T180857Z
UID:9980-1757610000-1757617200@www.burlingtonctchamber.org
SUMMARY:BAH at Keystone Place at Newbury Brook
DESCRIPTION:
URL:https://www.burlingtonctchamber.org/event/bah-at-keystone-place-at-newbury-brook/
LOCATION:Keystone Place at Newbury Place\, 1058 Litchfield St\, Torrington\, CT\, 06790
CATEGORIES:BCC
ATTACH;FMTTYPE=image/jpeg:https://www.burlingtonctchamber.org/wp-content/uploads/2025/04/2025-0911-Keystone-Place-at-Newbury-Place-Flyer.jpg
ORGANIZER;CN="Burlington Chamber of Commerce":MAILTO:president@burlingtonctchamber.org
END:VEVENT
END:VCALENDAR