BEGIN:VCALENDAR
VERSION:2.0
PRODID:-//Burlington Chamber of Commerce - ECPv6.15.20//NONSGML v1.0//EN
CALSCALE:GREGORIAN
METHOD:PUBLISH
X-ORIGINAL-URL:https://www.burlingtonctchamber.org
X-WR-CALDESC:Events for Burlington Chamber of Commerce
REFRESH-INTERVAL;VALUE=DURATION:PT1H
X-Robots-Tag:noindex
X-PUBLISHED-TTL:PT1H
BEGIN:VTIMEZONE
TZID:America/New_York
BEGIN:DAYLIGHT
TZOFFSETFROM:-0500
TZOFFSETTO:-0400
TZNAME:EDT
DTSTART:20240310T070000
END:DAYLIGHT
BEGIN:STANDARD
TZOFFSETFROM:-0400
TZOFFSETTO:-0500
TZNAME:EST
DTSTART:20241103T060000
END:STANDARD
BEGIN:DAYLIGHT
TZOFFSETFROM:-0500
TZOFFSETTO:-0400
TZNAME:EDT
DTSTART:20250309T070000
END:DAYLIGHT
BEGIN:STANDARD
TZOFFSETFROM:-0400
TZOFFSETTO:-0500
TZNAME:EST
DTSTART:20251102T060000
END:STANDARD
BEGIN:DAYLIGHT
TZOFFSETFROM:-0500
TZOFFSETTO:-0400
TZNAME:EDT
DTSTART:20260308T070000
END:DAYLIGHT
BEGIN:STANDARD
TZOFFSETFROM:-0400
TZOFFSETTO:-0500
TZNAME:EST
DTSTART:20261101T060000
END:STANDARD
END:VTIMEZONE
BEGIN:VEVENT
DTSTART;TZID=America/New_York:20251203T170000
DTEND;TZID=America/New_York:20251203T183000
DTSTAMP:20260421T093725
CREATED:20251111T142356Z
LAST-MODIFIED:20251111T142356Z
UID:10363-1764781200-1764786600@www.burlingtonctchamber.org
SUMMARY:Sidewalk Stroll
DESCRIPTION:The Burlington Chamber of Commerce and Economic Development Commission invite our community to join us for a sidewalk stroll.\n📍 Route: CVS Plaza → M&T/Prestige Plumbing\n️ Parking: Enclave/CVS Lot\, IKAG Lot\, & Library Lane\nBundle up and bring the family for a festive evening in Burlington! Stroll our newly improved sidewalks\, enjoy treats and activities from local businesses\, and take part in a kids’ scavenger hunt\nalong the way. Each stop will feature holiday snacks\, warm drinks\, or fun activities to make the night magical.\n✨Celebrate the season\, support our small businesses\, and make memories together at this special community event!
URL:https://www.burlingtonctchamber.org/event/sidewalk-stroll/
LOCATION:CT
CATEGORIES:BCC
ATTACH;FMTTYPE=image/jpeg:https://www.burlingtonctchamber.org/wp-content/uploads/2025/11/2025-1203-BCC-Sidewalk-Stroll-flyer.jpg
ORGANIZER;CN="Burlington Chamber of Commerce":MAILTO:president@burlingtonctchamber.org
END:VEVENT
END:VCALENDAR