BEGIN:VCALENDAR
VERSION:2.0
PRODID:-//Burlington Chamber of Commerce - ECPv6.15.20//NONSGML v1.0//EN
CALSCALE:GREGORIAN
METHOD:PUBLISH
X-WR-CALNAME:Burlington Chamber of Commerce
X-ORIGINAL-URL:https://www.burlingtonctchamber.org
X-WR-CALDESC:Events for Burlington Chamber of Commerce
REFRESH-INTERVAL;VALUE=DURATION:PT1H
X-Robots-Tag:noindex
X-PUBLISHED-TTL:PT1H
BEGIN:VTIMEZONE
TZID:America/New_York
BEGIN:DAYLIGHT
TZOFFSETFROM:-0500
TZOFFSETTO:-0400
TZNAME:EDT
DTSTART:20250309T070000
END:DAYLIGHT
BEGIN:STANDARD
TZOFFSETFROM:-0400
TZOFFSETTO:-0500
TZNAME:EST
DTSTART:20251102T060000
END:STANDARD
BEGIN:DAYLIGHT
TZOFFSETFROM:-0500
TZOFFSETTO:-0400
TZNAME:EDT
DTSTART:20260308T070000
END:DAYLIGHT
BEGIN:STANDARD
TZOFFSETFROM:-0400
TZOFFSETTO:-0500
TZNAME:EST
DTSTART:20261101T060000
END:STANDARD
BEGIN:DAYLIGHT
TZOFFSETFROM:-0500
TZOFFSETTO:-0400
TZNAME:EDT
DTSTART:20270314T070000
END:DAYLIGHT
BEGIN:STANDARD
TZOFFSETFROM:-0400
TZOFFSETTO:-0500
TZNAME:EST
DTSTART:20271107T060000
END:STANDARD
END:VTIMEZONE
BEGIN:VEVENT
DTSTART;TZID=America/New_York:20260521T120000
DTEND;TZID=America/New_York:20260521T131500
DTSTAMP:20260421T064353
CREATED:20260305T192845Z
LAST-MODIFIED:20260305T200607Z
UID:10617-1779364800-1779369300@www.burlingtonctchamber.org
SUMMARY:May Members Meeting
DESCRIPTION:Please join us for our monthly Member Meetings. Working with the Burlington Chamber Board of Directors\, members can participate in the ongoing development of our Chamber. We value feedback from each of our member businesses and look forward to collaborating with you to make your Burlington Chamber of Commerce membership even more valuable. Lunch is provided.
URL:https://www.burlingtonctchamber.org/event/may-2026-members-meeting/
LOCATION:Burlington Public Library\, 34 Library Ln\, Burlington\, CT\, 06013
CATEGORIES:BCC
ATTACH;FMTTYPE=image/jpeg:https://www.burlingtonctchamber.org/wp-content/uploads/2026/02/BCC-Members-meeting-logo-e1771445150451.jpg
END:VEVENT
END:VCALENDAR