BEGIN:VCALENDAR
VERSION:2.0
PRODID:-//Burlington Chamber of Commerce - ECPv6.15.20//NONSGML v1.0//EN
CALSCALE:GREGORIAN
METHOD:PUBLISH
X-ORIGINAL-URL:https://www.burlingtonctchamber.org
X-WR-CALDESC:Events for Burlington Chamber of Commerce
REFRESH-INTERVAL;VALUE=DURATION:PT1H
X-Robots-Tag:noindex
X-PUBLISHED-TTL:PT1H
BEGIN:VTIMEZONE
TZID:America/New_York
BEGIN:DAYLIGHT
TZOFFSETFROM:-0500
TZOFFSETTO:-0400
TZNAME:EDT
DTSTART:20240310T070000
END:DAYLIGHT
BEGIN:STANDARD
TZOFFSETFROM:-0400
TZOFFSETTO:-0500
TZNAME:EST
DTSTART:20241103T060000
END:STANDARD
BEGIN:DAYLIGHT
TZOFFSETFROM:-0500
TZOFFSETTO:-0400
TZNAME:EDT
DTSTART:20250309T070000
END:DAYLIGHT
BEGIN:STANDARD
TZOFFSETFROM:-0400
TZOFFSETTO:-0500
TZNAME:EST
DTSTART:20251102T060000
END:STANDARD
BEGIN:DAYLIGHT
TZOFFSETFROM:-0500
TZOFFSETTO:-0400
TZNAME:EDT
DTSTART:20260308T070000
END:DAYLIGHT
BEGIN:STANDARD
TZOFFSETFROM:-0400
TZOFFSETTO:-0500
TZNAME:EST
DTSTART:20261101T060000
END:STANDARD
BEGIN:DAYLIGHT
TZOFFSETFROM:-0500
TZOFFSETTO:-0400
TZNAME:EDT
DTSTART:20270314T070000
END:DAYLIGHT
BEGIN:STANDARD
TZOFFSETFROM:-0400
TZOFFSETTO:-0500
TZNAME:EST
DTSTART:20271107T060000
END:STANDARD
END:VTIMEZONE
BEGIN:VEVENT
DTSTART;TZID=America/New_York:20250916T080000
DTEND;TZID=America/New_York:20250916T090000
DTSTAMP:20260419T211000
CREATED:20250602T201151Z
LAST-MODIFIED:20250602T201151Z
UID:10087-1758009600-1758013200@www.burlingtonctchamber.org
SUMMARY:Morning Jolt
DESCRIPTION:The Morning Jolt takes place on the third Tuesday of each month.
URL:https://www.burlingtonctchamber.org/event/morning-jolt-2025-0916/
LOCATION:DoubleTree by Hilton\, 42 Century Drive\, Bristol\, CT\, 06010
CATEGORIES:CCCC
ATTACH;FMTTYPE=image/jpeg:https://www.burlingtonctchamber.org/wp-content/uploads/2023/03/CCCC-Morning-Jolt-logo.jpg
ORGANIZER;CN="Andrew LaForge":MAILTO:a.laforge@centralctchambers.org
END:VEVENT
BEGIN:VEVENT
DTSTART;TZID=America/New_York:20250925T170000
DTEND;TZID=America/New_York:20250925T190000
DTSTAMP:20260419T211000
CREATED:20250418T181438Z
LAST-MODIFIED:20250822T194355Z
UID:9984-1758819600-1758826800@www.burlingtonctchamber.org
SUMMARY:Regional BAH at Clocktown Brewing Company
DESCRIPTION:
URL:https://www.burlingtonctchamber.org/event/regional-bah-at-clocktown-brewing-company/
LOCATION:Clocktown Brewing Company\, 135 South Main St\, Thomaston\, CT\, 06787
CATEGORIES:CCCC
ORGANIZER;CN="Central CT Chambers of Commerce":MAILTO:info@centralctchambers.org
END:VEVENT
BEGIN:VEVENT
DTSTART;TZID=America/New_York:20251014T163000
DTEND;TZID=America/New_York:20251014T163000
DTSTAMP:20260419T211000
CREATED:20241210T205321Z
LAST-MODIFIED:20241210T205417Z
UID:9706-1760459400-1760459400@www.burlingtonctchamber.org
SUMMARY:PowHERful Connections Women's Networking
DESCRIPTION:The Central CT Chambers of Commerce’s women-only networking group. \nMeets quarterly on February 11\, May 13\, August 12\, and October 14 in 2025.
URL:https://www.burlingtonctchamber.org/event/powherful-connections-womens-networking-oct-14-2025/
LOCATION:Max Pizza IV\, LLC\, 454 Middle Street\, Bristol\, CT\, 06010
CATEGORIES:CCCC
ATTACH;FMTTYPE=image/jpeg:https://www.burlingtonctchamber.org/wp-content/uploads/2024/12/2025-Powherful-Connections-Networking-Series-Flyer.jpg
ORGANIZER;CN="Katie D'Agostino":MAILTO:k.dagostino@centralctchambers.org
END:VEVENT
BEGIN:VEVENT
DTSTART;TZID=America/New_York:20251016T163000
DTEND;TZID=America/New_York:20251016T200000
DTSTAMP:20260419T211000
CREATED:20250602T201724Z
LAST-MODIFIED:20250602T201754Z
UID:10093-1760632200-1760644800@www.burlingtonctchamber.org
SUMMARY:Bowling Tournament
DESCRIPTION:Grab your friends and join us for our 2nd Annual Bowling Tournament. \nFood\, drinks\, great prizes\, and great fun! \nThe tournament includes three games of bowling.
URL:https://www.burlingtonctchamber.org/event/bowling-tournament-2025-1016/
LOCATION:Spare Time Bristol\, 177 Farmington Ave\, Bristol\, CT\, 06010
CATEGORIES:CCCC
ORGANIZER;CN="Andrew LaForge":MAILTO:a.laforge@centralctchambers.org
END:VEVENT
BEGIN:VEVENT
DTSTART;TZID=America/New_York:20251021T080000
DTEND;TZID=America/New_York:20251021T090000
DTSTAMP:20260419T211000
CREATED:20250602T201851Z
LAST-MODIFIED:20250721T172959Z
UID:10095-1761033600-1761037200@www.burlingtonctchamber.org
SUMMARY:Morning Jolt
DESCRIPTION:The Morning Jolt takes place on the third Tuesday of each month.
URL:https://www.burlingtonctchamber.org/event/morning-jolt-2025-1021/
LOCATION:DoubleTree by Hilton\, 42 Century Drive\, Bristol\, CT\, 06010
CATEGORIES:CCCC
ATTACH;FMTTYPE=image/jpeg:https://www.burlingtonctchamber.org/wp-content/uploads/2023/03/CCCC-Morning-Jolt-logo.jpg
ORGANIZER;CN="Andrew LaForge":MAILTO:a.laforge@centralctchambers.org
END:VEVENT
BEGIN:VEVENT
DTSTART;TZID=America/New_York:20251022T170000
DTEND;TZID=America/New_York:20251022T190000
DTSTAMP:20260419T211000
CREATED:20251007T143708Z
LAST-MODIFIED:20251007T143708Z
UID:10290-1761152400-1761159600@www.burlingtonctchamber.org
SUMMARY:BAH - Doc Popcorn and Dippin Dots
DESCRIPTION:
URL:https://www.burlingtonctchamber.org/event/bah-doc-popcorn-and-dippin-dots/
LOCATION:Doc Popcorn and Dippin Dots\, 2055 Meriden Road\, Wolcott\, CT\, 06716
CATEGORIES:CCCC
ORGANIZER;CN="Central CT Chambers of Commerce":MAILTO:info@centralctchambers.org
END:VEVENT
BEGIN:VEVENT
DTSTART;TZID=America/New_York:20251024T180000
DTEND;TZID=America/New_York:20251024T210000
DTSTAMP:20260419T211000
CREATED:20250721T171922Z
LAST-MODIFIED:20250721T171922Z
UID:10141-1761328800-1761339600@www.burlingtonctchamber.org
SUMMARY:Bristol Education Foundation Trivia Night
DESCRIPTION:
URL:https://www.burlingtonctchamber.org/event/bristol-education-foundation-trivia-night/
LOCATION:DoubleTree by Hilton\, 42 Century Drive\, Bristol\, CT\, 06010
CATEGORIES:CCCC
ORGANIZER;CN="Katie D'Agostino":MAILTO:k.dagostino@centralctchambers.org
END:VEVENT
BEGIN:VEVENT
DTSTART;TZID=America/New_York:20251118T080000
DTEND;TZID=America/New_York:20251118T090000
DTSTAMP:20260419T211000
CREATED:20250721T172756Z
LAST-MODIFIED:20250721T172756Z
UID:10149-1763452800-1763456400@www.burlingtonctchamber.org
SUMMARY:Morning Jolt
DESCRIPTION:The Morning Jolt takes place on the third Tuesday of each month.
URL:https://www.burlingtonctchamber.org/event/morning-jolt-2025-1118/
LOCATION:DoubleTree by Hilton\, 42 Century Drive\, Bristol\, CT\, 06010
CATEGORIES:CCCC
ATTACH;FMTTYPE=image/jpeg:https://www.burlingtonctchamber.org/wp-content/uploads/2023/03/CCCC-Morning-Jolt-logo.jpg
ORGANIZER;CN="Andrew LaForge":MAILTO:a.laforge@centralctchambers.org
END:VEVENT
BEGIN:VEVENT
DTSTART;TZID=America/New_York:20251119T170000
DTEND;TZID=America/New_York:20251119T190000
DTSTAMP:20260419T211000
CREATED:20251016T141605Z
LAST-MODIFIED:20251016T141605Z
UID:10309-1763571600-1763578800@www.burlingtonctchamber.org
SUMMARY:Special Business After Hours With the United Way
DESCRIPTION:The Chamber is proud to host a Special Business After Hours in November to introduce everyone to the United Way of Central and Northeastern Connecticut. The United Way of Central and Northeastern Connecticut and United Way of West Central Connecticut entered a strategic alliance designed to enhance community impact\, streamline operations\, and expand services across the region. The organization now serves one-third of the state’s population across 56 cities and towns. Come learn all the positives the merger will have on the communities it serves.
URL:https://www.burlingtonctchamber.org/event/special-business-after-hours-with-the-united-way/
LOCATION:DoubleTree by Hilton\, 42 Century Drive\, Bristol\, CT\, 06010
CATEGORIES:CCCC
ORGANIZER;CN="Katie D'Agostino":MAILTO:k.dagostino@centralctchambers.org
END:VEVENT
BEGIN:VEVENT
DTSTART;TZID=America/New_York:20251120T173000
DTEND;TZID=America/New_York:20251120T220000
DTSTAMP:20260419T211000
CREATED:20251118T213627Z
LAST-MODIFIED:20251118T213627Z
UID:10368-1763659800-1763676000@www.burlingtonctchamber.org
SUMMARY:Multi-Chamber Business After Hours
DESCRIPTION:Network\, food\, and drink with the Central CT Chambers\, the West Hartford Chamber\, and CACCE at Riverbend at Farmington.
URL:https://www.burlingtonctchamber.org/event/multi-chamber-business-after-hours/
LOCATION:Riverbend at Farmington\, 1 Bridgewater Road\, Farmington\, CT\, 06032
CATEGORIES:CCCC
ORGANIZER;CN="Katie D'Agostino":MAILTO:k.dagostino@centralctchambers.org
END:VEVENT
BEGIN:VEVENT
DTSTART;TZID=America/New_York:20251210T170000
DTEND;TZID=America/New_York:20251210T200000
DTSTAMP:20260419T211000
CREATED:20250721T172553Z
LAST-MODIFIED:20250721T172553Z
UID:10147-1765386000-1765396800@www.burlingtonctchamber.org
SUMMARY:Holiday Party 2025 with Small Business & Emerging Leaders Awards
DESCRIPTION:
URL:https://www.burlingtonctchamber.org/event/holiday-party-2025-with-small-business-emerging-leaders-awards/
LOCATION:DoubleTree by Hilton\, 42 Century Drive\, Bristol\, CT\, 06010
CATEGORIES:CCCC
ORGANIZER;CN="Johnny Burnham":MAILTO:j.burnham@centralctchambers.org
END:VEVENT
BEGIN:VEVENT
DTSTART;TZID=America/New_York:20251216T080000
DTEND;TZID=America/New_York:20251216T090000
DTSTAMP:20260419T211000
CREATED:20250721T172916Z
LAST-MODIFIED:20251203T231000Z
UID:10151-1765872000-1765875600@www.burlingtonctchamber.org
SUMMARY:Morning Jolt
DESCRIPTION:The Morning Jolt takes place on the third Tuesday of each month.
URL:https://www.burlingtonctchamber.org/event/morning-jolt-2025-1216/
LOCATION:DoubleTree by Hilton\, 42 Century Drive\, Bristol\, CT\, 06010
CATEGORIES:CCCC
ATTACH;FMTTYPE=image/jpeg:https://www.burlingtonctchamber.org/wp-content/uploads/2025/12/Morning-Jolt-Logo.jpg
ORGANIZER;CN="Andrew LaForge":MAILTO:a.laforge@centralctchambers.org
END:VEVENT
BEGIN:VEVENT
DTSTART;TZID=America/New_York:20260120T080000
DTEND;TZID=America/New_York:20260120T090000
DTSTAMP:20260419T211000
CREATED:20251007T144153Z
LAST-MODIFIED:20251219T163211Z
UID:10294-1768896000-1768899600@www.burlingtonctchamber.org
SUMMARY:Morning Jolt
DESCRIPTION:The Morning Jolt takes place on the third Tuesday of each month.
URL:https://www.burlingtonctchamber.org/event/morning-jolt-2026-0120/
LOCATION:Central CT Chambers of Commerce\, 440 N Main St\, Bristol\, CT\, 06010
CATEGORIES:CCCC
ATTACH;FMTTYPE=image/jpeg:https://www.burlingtonctchamber.org/wp-content/uploads/2025/12/Morning-Jolt-Logo.jpg
ORGANIZER;CN="Andrew LaForge":MAILTO:a.laforge@centralctchambers.org
END:VEVENT
BEGIN:VEVENT
DTSTART;TZID=America/New_York:20260210T163000
DTEND;TZID=America/New_York:20260210T193000
DTSTAMP:20260419T211000
CREATED:20251118T214202Z
LAST-MODIFIED:20251118T214332Z
UID:10372-1770741000-1770751800@www.burlingtonctchamber.org
SUMMARY:PowHERful Connections Women's Networking Series
DESCRIPTION:The Central CT Chambers of Commerce’s women’s-only networking group.
URL:https://www.burlingtonctchamber.org/event/powherful-connections-womens-networking-series/
LOCATION:Max Pizza IV\, LLC\, 454 Middle Street\, Bristol\, CT\, 06010
CATEGORIES:CCCC
ATTACH;FMTTYPE=image/png:https://www.burlingtonctchamber.org/wp-content/uploads/2025/11/2026-PowHERful-Connections-Series-Flyer.png
ORGANIZER;CN="Katie D'Agostino":MAILTO:k.dagostino@centralctchambers.org
END:VEVENT
BEGIN:VEVENT
DTSTART;TZID=America/New_York:20260211T160000
DTEND;TZID=America/New_York:20260211T180000
DTSTAMP:20260419T211000
CREATED:20260107T235639Z
LAST-MODIFIED:20260107T235639Z
UID:10463-1770825600-1770832800@www.burlingtonctchamber.org
SUMMARY:Small Business Seminar: What's Your Story?
DESCRIPTION:Unlock Free Press and Earned Media That Put Your Business On The Map!
URL:https://www.burlingtonctchamber.org/event/small-business-seminar-whats-your-story/
LOCATION:Central CT Chambers of Commerce\, 440 N Main St\, Bristol\, CT\, 06010
CATEGORIES:CCCC
ORGANIZER;CN="Katie D'Agostino":MAILTO:k.dagostino@centralctchambers.org
END:VEVENT
BEGIN:VEVENT
DTSTART;TZID=America/New_York:20260217T080000
DTEND;TZID=America/New_York:20260217T090000
DTSTAMP:20260419T211000
CREATED:20251007T144717Z
LAST-MODIFIED:20251219T163330Z
UID:10296-1771315200-1771318800@www.burlingtonctchamber.org
SUMMARY:Morning Jolt
DESCRIPTION:The Morning Jolt takes place on the third Tuesday of each month.
URL:https://www.burlingtonctchamber.org/event/morning-jolt-2026-0217/
LOCATION:Central CT Chambers of Commerce\, 440 N Main St\, Bristol\, CT\, 06010
CATEGORIES:CCCC
ATTACH;FMTTYPE=image/jpeg:https://www.burlingtonctchamber.org/wp-content/uploads/2025/12/Morning-Jolt-Logo.jpg
ORGANIZER;CN="Andrew LaForge":MAILTO:a.laforge@centralctchambers.org
END:VEVENT
BEGIN:VEVENT
DTSTART;TZID=America/New_York:20260221T100000
DTEND;TZID=America/New_York:20260221T170000
DTSTAMP:20260419T211000
CREATED:20250822T194827Z
LAST-MODIFIED:20251007T145206Z
UID:10214-1771668000-1771693200@www.burlingtonctchamber.org
SUMMARY:The Everything Expo 2025
DESCRIPTION:The Everything Expo is back! \nJoin us on February 21st at the DoubleTree by Hilton\, where everything you’re looking for can be found in one place. The Chamber’s Health Fair\, Business Expo\, and Career Fair combine into one complete event! Limited to 75 VENDORS.
URL:https://www.burlingtonctchamber.org/event/everything-expo-2025/
LOCATION:DoubleTree by Hilton\, 42 Century Drive\, Bristol\, CT\, 06010
CATEGORIES:CCCC
ORGANIZER;CN="Johnny Burnham":MAILTO:j.burnham@centralctchambers.org
END:VEVENT
BEGIN:VEVENT
DTSTART;TZID=America/New_York:20260226T150000
DTEND;TZID=America/New_York:20260226T153000
DTSTAMP:20260419T211000
CREATED:20260218T192520Z
LAST-MODIFIED:20260218T192520Z
UID:10533-1772118000-1772119800@www.burlingtonctchamber.org
SUMMARY:Ribbon Cutting Ceremony: AEM Accounting
DESCRIPTION:Help us cut the ribbon!
URL:https://www.burlingtonctchamber.org/event/ribbon-cutting-ceremony-aem-accounting/
LOCATION:AEM Accounting\, LLC\, 304 Main Street\, Farmington\, CT\, 06032
CATEGORIES:CCCC
ORGANIZER;CN="Katie D'Agostino":MAILTO:k.dagostino@centralctchambers.org
END:VEVENT
BEGIN:VEVENT
DTSTART;TZID=America/New_York:20260317T080000
DTEND;TZID=America/New_York:20260317T090000
DTSTAMP:20260419T211000
CREATED:20251007T144902Z
LAST-MODIFIED:20260218T192633Z
UID:10298-1773734400-1773738000@www.burlingtonctchamber.org
SUMMARY:Morning Jolt - Sponsored by The Bristol Bazaar
DESCRIPTION:The Morning Jolt takes place on the third Tuesday of each month.
URL:https://www.burlingtonctchamber.org/event/morning-jolt-2026-0317/
LOCATION:Central CT Chambers of Commerce\, 440 N Main St\, Bristol\, CT\, 06010
CATEGORIES:CCCC
ATTACH;FMTTYPE=image/jpeg:https://www.burlingtonctchamber.org/wp-content/uploads/2025/12/Morning-Jolt-Logo.jpg
ORGANIZER;CN="Andrew LaForge":MAILTO:a.laforge@centralctchambers.org
END:VEVENT
BEGIN:VEVENT
DTSTART;TZID=America/New_York:20260325T170000
DTEND;TZID=America/New_York:20260325T190000
DTSTAMP:20260419T211000
CREATED:20251118T214803Z
LAST-MODIFIED:20251118T214803Z
UID:10379-1774458000-1774465200@www.burlingtonctchamber.org
SUMMARY:BAH at The Olmsted Farmington
DESCRIPTION:Chamber Business After Hours are designed for members to meet and create relationships with business professionals representing a variety of industries.
URL:https://www.burlingtonctchamber.org/event/bah-at-the-olmsted-farmington/
LOCATION:CT
CATEGORIES:CCCC
ORGANIZER;CN="Andrew LaForge":MAILTO:a.laforge@centralctchambers.org
END:VEVENT
BEGIN:VEVENT
DTSTART;TZID=America/New_York:20260408T150000
DTEND;TZID=America/New_York:20260408T170000
DTSTAMP:20260419T211000
CREATED:20260320T203010Z
LAST-MODIFIED:20260320T203010Z
UID:10642-1775660400-1775667600@www.burlingtonctchamber.org
SUMMARY:Central CT Chambers Ribbon Cutting - Active Health
DESCRIPTION:Help us cut the ribbon to welcome Active Health to Farmington!
URL:https://www.burlingtonctchamber.org/event/central-ct-chambers-ribbon-cutting-active-health/
LOCATION:Active Health\, 270 Farmington Ave\, Farmington\, CT\, 06032
CATEGORIES:CCCC
ORGANIZER;CN="Katie D'Agostino":MAILTO:k.dagostino@centralctchambers.org
END:VEVENT
BEGIN:VEVENT
DTSTART;TZID=America/New_York:20260418T120000
DTEND;TZID=America/New_York:20260418T160000
DTSTAMP:20260419T211000
CREATED:20260108T000340Z
LAST-MODIFIED:20260218T201137Z
UID:10465-1776513600-1776528000@www.burlingtonctchamber.org
SUMMARY:Pickleball Tournament
DESCRIPTION:The Chamber holds its second annual Pickleball Tournament!
URL:https://www.burlingtonctchamber.org/event/pickleball-tournament-2026/
LOCATION:Camp Pickleball\, 17 Northwest Drive\, Plainville\, CT\, 06062
CATEGORIES:CCCC
ORGANIZER;CN="Andrew LaForge":MAILTO:a.laforge@centralctchambers.org
END:VEVENT
BEGIN:VEVENT
DTSTART;TZID=America/New_York:20260421T080000
DTEND;TZID=America/New_York:20260421T090000
DTSTAMP:20260419T211000
CREATED:20251215T161344Z
LAST-MODIFIED:20251219T163444Z
UID:10412-1776758400-1776762000@www.burlingtonctchamber.org
SUMMARY:Morning Jolt
DESCRIPTION:The Morning Jolt takes place on the third Tuesday of each month.
URL:https://www.burlingtonctchamber.org/event/morning-jolt-4/
LOCATION:Central CT Chambers of Commerce\, 440 N Main St\, Bristol\, CT\, 06010
CATEGORIES:CCCC
ATTACH;FMTTYPE=image/jpeg:https://www.burlingtonctchamber.org/wp-content/uploads/2025/12/Morning-Jolt-Logo.jpg
ORGANIZER;CN="Andrew LaForge":MAILTO:a.laforge@centralctchambers.org
END:VEVENT
BEGIN:VEVENT
DTSTART;TZID=America/New_York:20260512T163000
DTEND;TZID=America/New_York:20260512T193000
DTSTAMP:20260419T211000
CREATED:20251215T161452Z
LAST-MODIFIED:20251215T161452Z
UID:10414-1778603400-1778614200@www.burlingtonctchamber.org
SUMMARY:PowHERful Connections Women's Networking Series
DESCRIPTION:The Central CT Chambers of Commerce’s women’s-only networking group.
URL:https://www.burlingtonctchamber.org/event/powherful-connections-womens-networking-series-2/
LOCATION:Max Pizza IV\, LLC\, 454 Middle Street\, Bristol\, CT\, 06010
CATEGORIES:CCCC
ATTACH;FMTTYPE=image/png:https://www.burlingtonctchamber.org/wp-content/uploads/2025/11/2026-PowHERful-Connections-Series-Flyer.png
ORGANIZER;CN="Katie D'Agostino":MAILTO:k.dagostino@centralctchambers.org
END:VEVENT
BEGIN:VEVENT
DTSTART;TZID=America/New_York:20260519T080000
DTEND;TZID=America/New_York:20260519T090000
DTSTAMP:20260419T211000
CREATED:20260108T000602Z
LAST-MODIFIED:20260108T000623Z
UID:10468-1779177600-1779181200@www.burlingtonctchamber.org
SUMMARY:Morning Jolt - Sponsored by Mazz Media
DESCRIPTION:The Morning Jolt takes place on the third Tuesday of each month.
URL:https://www.burlingtonctchamber.org/event/morning-jolt-sponsored-by-mazz-media/
LOCATION:Central CT Chambers of Commerce\, 440 N Main St\, Bristol\, CT\, 06010
CATEGORIES:CCCC
ATTACH;FMTTYPE=image/jpeg:https://www.burlingtonctchamber.org/wp-content/uploads/2025/12/Morning-Jolt-Logo.jpg
ORGANIZER;CN="Andrew LaForge":MAILTO:a.laforge@centralctchambers.org
END:VEVENT
BEGIN:VEVENT
DTSTART;TZID=America/New_York:20260603T173000
DTEND;TZID=America/New_York:20260603T210000
DTSTAMP:20260419T211000
CREATED:20260205T151817Z
LAST-MODIFIED:20260205T151817Z
UID:10497-1780507800-1780520400@www.burlingtonctchamber.org
SUMMARY:136th Annual Dinner
DESCRIPTION:Join us as we celebrate our 136th Annual Dinner.
URL:https://www.burlingtonctchamber.org/event/136th-annual-dinner/
LOCATION:Bristol Event Center\, 112 Century Drive\, Bristol\, CT\, 06010
CATEGORIES:CCCC
ORGANIZER;CN="Katie D'Agostino":MAILTO:k.dagostino@centralctchambers.org
END:VEVENT
BEGIN:VEVENT
DTSTART;TZID=America/New_York:20260616T080000
DTEND;TZID=America/New_York:20260616T090000
DTSTAMP:20260419T211000
CREATED:20260320T203258Z
LAST-MODIFIED:20260320T203617Z
UID:10645-1781596800-1781600400@www.burlingtonctchamber.org
SUMMARY:Morning Jolt - Sponsored by cinder + salt
DESCRIPTION:The Morning Jolt takes place on the third Tuesday of each month.
URL:https://www.burlingtonctchamber.org/event/morning-jolt-sponsored-by-cinder-salt/
LOCATION:Central CT Chambers of Commerce\, 440 N Main St\, Bristol\, CT\, 06010
CATEGORIES:CCCC
ATTACH;FMTTYPE=image/jpeg:https://www.burlingtonctchamber.org/wp-content/uploads/2025/12/Morning-Jolt-Logo.jpg
ORGANIZER;CN="Andrew LaForge":MAILTO:a.laforge@centralctchambers.org
END:VEVENT
BEGIN:VEVENT
DTSTART;TZID=America/New_York:20260721T080000
DTEND;TZID=America/New_York:20260721T090000
DTSTAMP:20260419T211000
CREATED:20260320T203521Z
LAST-MODIFIED:20260320T204959Z
UID:10648-1784620800-1784624400@www.burlingtonctchamber.org
SUMMARY:Morning Jolt - Sponsored by Connecticut Paid Leave
DESCRIPTION:The Morning Jolt takes place on the third Tuesday of each month.
URL:https://www.burlingtonctchamber.org/event/morning-jolt-sponsored-by-connecticut-paid-leave/
LOCATION:Central CT Chambers of Commerce\, 440 N Main St\, Bristol\, CT\, 06010
CATEGORIES:CCCC
ATTACH;FMTTYPE=image/jpeg:https://www.burlingtonctchamber.org/wp-content/uploads/2025/12/Morning-Jolt-Logo.jpg
ORGANIZER;CN="Andrew LaForge":MAILTO:a.laforge@centralctchambers.org
END:VEVENT
BEGIN:VEVENT
DTSTART;TZID=America/New_York:20260803T103000
DTEND;TZID=America/New_York:20260803T190000
DTSTAMP:20260419T211000
CREATED:20260320T203852Z
LAST-MODIFIED:20260320T203852Z
UID:10651-1785753000-1785783600@www.burlingtonctchamber.org
SUMMARY:35th Annual Golf Tournament
DESCRIPTION:Enjoy a fun day out of the office with us!
URL:https://www.burlingtonctchamber.org/event/35th-annual-golf-tournament/
LOCATION:Tunxis Country Club and Banquet Facility\, 87 Town Farm Road\, Farmington\, CT\, 06032
CATEGORIES:CCCC
ORGANIZER;CN="Katie D'Agostino":MAILTO:k.dagostino@centralctchambers.org
END:VEVENT
BEGIN:VEVENT
DTSTART;TZID=America/New_York:20260811T163000
DTEND;TZID=America/New_York:20260811T193000
DTSTAMP:20260419T211000
CREATED:20260320T204528Z
LAST-MODIFIED:20260320T204528Z
UID:10654-1786465800-1786476600@www.burlingtonctchamber.org
SUMMARY:PowHERful Connections Women's Networking Series
DESCRIPTION:The Central CT Chambers of Commerce’s women’s-only networking group. \nSession Topic:  Speak Up\, Stand Out \nMastering Workplace Negotiation: Discover how to ask for what you deserve and navigate workplace dynamics with clarity and confidence. \n 
URL:https://www.burlingtonctchamber.org/event/powherful-connections-womens-networking-series-3/
LOCATION:Max Pizza IV\, LLC\, 454 Middle Street\, Bristol\, CT\, 06010
CATEGORIES:CCCC
ATTACH;FMTTYPE=image/png:https://www.burlingtonctchamber.org/wp-content/uploads/2025/11/2026-PowHERful-Connections-Series-Flyer.png
ORGANIZER;CN="Katie D'Agostino":MAILTO:k.dagostino@centralctchambers.org
END:VEVENT
END:VCALENDAR