BEGIN:VCALENDAR
VERSION:2.0
PRODID:-//Burlington Chamber of Commerce - ECPv6.15.20//NONSGML v1.0//EN
CALSCALE:GREGORIAN
METHOD:PUBLISH
X-ORIGINAL-URL:https://www.burlingtonctchamber.org
X-WR-CALDESC:Events for Burlington Chamber of Commerce
REFRESH-INTERVAL;VALUE=DURATION:PT1H
X-Robots-Tag:noindex
X-PUBLISHED-TTL:PT1H
BEGIN:VTIMEZONE
TZID:America/New_York
BEGIN:DAYLIGHT
TZOFFSETFROM:-0500
TZOFFSETTO:-0400
TZNAME:EDT
DTSTART:20250309T070000
END:DAYLIGHT
BEGIN:STANDARD
TZOFFSETFROM:-0400
TZOFFSETTO:-0500
TZNAME:EST
DTSTART:20251102T060000
END:STANDARD
BEGIN:DAYLIGHT
TZOFFSETFROM:-0500
TZOFFSETTO:-0400
TZNAME:EDT
DTSTART:20260308T070000
END:DAYLIGHT
BEGIN:STANDARD
TZOFFSETFROM:-0400
TZOFFSETTO:-0500
TZNAME:EST
DTSTART:20261101T060000
END:STANDARD
BEGIN:DAYLIGHT
TZOFFSETFROM:-0500
TZOFFSETTO:-0400
TZNAME:EDT
DTSTART:20270314T070000
END:DAYLIGHT
BEGIN:STANDARD
TZOFFSETFROM:-0400
TZOFFSETTO:-0500
TZNAME:EST
DTSTART:20271107T060000
END:STANDARD
END:VTIMEZONE
BEGIN:VEVENT
DTSTART;TZID=America/New_York:20260310T080000
DTEND;TZID=America/New_York:20260310T090000
DTSTAMP:20260421T071217
CREATED:20260206T220512Z
LAST-MODIFIED:20260206T220613Z
UID:10499-1773129600-1773133200@www.burlingtonctchamber.org
SUMMARY:Coffee Connections at Yai Yai's Greek Kitchen
DESCRIPTION:Join the Burlington Chamber for a morning of networking!
URL:https://www.burlingtonctchamber.org/event/coffee-connections-at-yai-yais-greek-kitchen/
LOCATION:Yai Yai’s Greek Kitchen\, 1057 E Main St\, Torrington\, CT\, 06790
CATEGORIES:BCC
ATTACH;FMTTYPE=image/jpeg:https://www.burlingtonctchamber.org/wp-content/uploads/2026/02/2026-0310-BCC-Coffee-Connections-Yai-Yai.jpg
ORGANIZER;CN="Burlington Chamber of Commerce":MAILTO:president@burlingtonctchamber.org
END:VEVENT
END:VCALENDAR