BEGIN:VCALENDAR
VERSION:2.0
PRODID:-//Burlington Chamber of Commerce - ECPv6.15.20//NONSGML v1.0//EN
CALSCALE:GREGORIAN
METHOD:PUBLISH
X-WR-CALNAME:Burlington Chamber of Commerce
X-ORIGINAL-URL:https://www.burlingtonctchamber.org
X-WR-CALDESC:Events for Burlington Chamber of Commerce
REFRESH-INTERVAL;VALUE=DURATION:PT1H
X-Robots-Tag:noindex
X-PUBLISHED-TTL:PT1H
BEGIN:VTIMEZONE
TZID:America/New_York
BEGIN:DAYLIGHT
TZOFFSETFROM:-0500
TZOFFSETTO:-0400
TZNAME:EDT
DTSTART:20230312T070000
END:DAYLIGHT
BEGIN:STANDARD
TZOFFSETFROM:-0400
TZOFFSETTO:-0500
TZNAME:EST
DTSTART:20231105T060000
END:STANDARD
BEGIN:DAYLIGHT
TZOFFSETFROM:-0500
TZOFFSETTO:-0400
TZNAME:EDT
DTSTART:20240310T070000
END:DAYLIGHT
BEGIN:STANDARD
TZOFFSETFROM:-0400
TZOFFSETTO:-0500
TZNAME:EST
DTSTART:20241103T060000
END:STANDARD
BEGIN:DAYLIGHT
TZOFFSETFROM:-0500
TZOFFSETTO:-0400
TZNAME:EDT
DTSTART:20250309T070000
END:DAYLIGHT
BEGIN:STANDARD
TZOFFSETFROM:-0400
TZOFFSETTO:-0500
TZNAME:EST
DTSTART:20251102T060000
END:STANDARD
END:VTIMEZONE
BEGIN:VEVENT
DTSTART;TZID=America/New_York:20241003T160000
DTEND;TZID=America/New_York:20241003T180000
DTSTAMP:20260420T164328
CREATED:20240701T152142Z
LAST-MODIFIED:20240701T152142Z
UID:9422-1727971200-1727978400@www.burlingtonctchamber.org
SUMMARY:Chamber Meet & Greet - Bristol
DESCRIPTION:CONNECT WITH YOUR BUSINESS NEIGHBORS! Regional business owners are invited to this exciting networking event\, which is focused on strengthening business relationships in Central Connecticut. \nLearn about what your amazing fellow business peers have to offer and how you can utilize each other’s services and products\, making it easier and more convenient to grow your business and the region’s business scene as a whole! \nLearn how you can participate in the Small Business Energy Advantage program to save on energy costs.
URL:https://www.burlingtonctchamber.org/event/chamber-meet-greet-bristol/
CATEGORIES:CCCC
ORGANIZER;CN="Central CT Chambers of Commerce":MAILTO:info@centralctchambers.org
END:VEVENT
END:VCALENDAR