BEGIN:VCALENDAR
VERSION:2.0
PRODID:-//Burlington Chamber of Commerce - ECPv6.15.20//NONSGML v1.0//EN
CALSCALE:GREGORIAN
METHOD:PUBLISH
X-WR-CALNAME:Burlington Chamber of Commerce
X-ORIGINAL-URL:https://www.burlingtonctchamber.org
X-WR-CALDESC:Events for Burlington Chamber of Commerce
REFRESH-INTERVAL;VALUE=DURATION:PT1H
X-Robots-Tag:noindex
X-PUBLISHED-TTL:PT1H
BEGIN:VTIMEZONE
TZID:America/New_York
BEGIN:DAYLIGHT
TZOFFSETFROM:-0500
TZOFFSETTO:-0400
TZNAME:EDT
DTSTART:20240310T070000
END:DAYLIGHT
BEGIN:STANDARD
TZOFFSETFROM:-0400
TZOFFSETTO:-0500
TZNAME:EST
DTSTART:20241103T060000
END:STANDARD
BEGIN:DAYLIGHT
TZOFFSETFROM:-0500
TZOFFSETTO:-0400
TZNAME:EDT
DTSTART:20250309T070000
END:DAYLIGHT
BEGIN:STANDARD
TZOFFSETFROM:-0400
TZOFFSETTO:-0500
TZNAME:EST
DTSTART:20251102T060000
END:STANDARD
BEGIN:DAYLIGHT
TZOFFSETFROM:-0500
TZOFFSETTO:-0400
TZNAME:EDT
DTSTART:20260308T070000
END:DAYLIGHT
BEGIN:STANDARD
TZOFFSETFROM:-0400
TZOFFSETTO:-0500
TZNAME:EST
DTSTART:20261101T060000
END:STANDARD
END:VTIMEZONE
BEGIN:VEVENT
DTSTART;TZID=America/New_York:20250925T170000
DTEND;TZID=America/New_York:20250925T190000
DTSTAMP:20260420T031527
CREATED:20250418T181438Z
LAST-MODIFIED:20250822T194355Z
UID:9984-1758819600-1758826800@www.burlingtonctchamber.org
SUMMARY:Regional BAH at Clocktown Brewing Company
DESCRIPTION:
URL:https://www.burlingtonctchamber.org/event/regional-bah-at-clocktown-brewing-company/
LOCATION:Clocktown Brewing Company\, 135 South Main St\, Thomaston\, CT\, 06787
CATEGORIES:CCCC
ORGANIZER;CN="Central CT Chambers of Commerce":MAILTO:info@centralctchambers.org
END:VEVENT
END:VCALENDAR