BEGIN:VCALENDAR
VERSION:2.0
PRODID:-//Burlington Chamber of Commerce - ECPv6.15.20//NONSGML v1.0//EN
CALSCALE:GREGORIAN
METHOD:PUBLISH
X-WR-CALNAME:Burlington Chamber of Commerce
X-ORIGINAL-URL:https://www.burlingtonctchamber.org
X-WR-CALDESC:Events for Burlington Chamber of Commerce
REFRESH-INTERVAL;VALUE=DURATION:PT1H
X-Robots-Tag:noindex
X-PUBLISHED-TTL:PT1H
BEGIN:VTIMEZONE
TZID:America/New_York
BEGIN:DAYLIGHT
TZOFFSETFROM:-0500
TZOFFSETTO:-0400
TZNAME:EDT
DTSTART:20240310T070000
END:DAYLIGHT
BEGIN:STANDARD
TZOFFSETFROM:-0400
TZOFFSETTO:-0500
TZNAME:EST
DTSTART:20241103T060000
END:STANDARD
BEGIN:DAYLIGHT
TZOFFSETFROM:-0500
TZOFFSETTO:-0400
TZNAME:EDT
DTSTART:20250309T070000
END:DAYLIGHT
BEGIN:STANDARD
TZOFFSETFROM:-0400
TZOFFSETTO:-0500
TZNAME:EST
DTSTART:20251102T060000
END:STANDARD
BEGIN:DAYLIGHT
TZOFFSETFROM:-0500
TZOFFSETTO:-0400
TZNAME:EDT
DTSTART:20260308T070000
END:DAYLIGHT
BEGIN:STANDARD
TZOFFSETFROM:-0400
TZOFFSETTO:-0500
TZNAME:EST
DTSTART:20261101T060000
END:STANDARD
END:VTIMEZONE
BEGIN:VEVENT
DTSTART;TZID=America/New_York:20250611T173000
DTEND;TZID=America/New_York:20250611T193000
DTSTAMP:20260420T090722
CREATED:20250418T174526Z
LAST-MODIFIED:20250506T165158Z
UID:9973-1749663000-1749670200@www.burlingtonctchamber.org
SUMMARY:Prestige Plumbing Werks Ribbon Cutting
DESCRIPTION:Curious about how Prestige Plumbing Werks operates behind the scenes\, our mission\, and our vision? \nJoin us for a peek inside our business.
URL:https://www.burlingtonctchamber.org/event/prestige-plumbing-werks-ribbon-cutting/
LOCATION:Prestige Plumbing Werks\, 256 Spielman Hwy\, Burlington\, CT\, 06013
CATEGORIES:BCC
ATTACH;FMTTYPE=image/jpeg:https://www.burlingtonctchamber.org/wp-content/uploads/2025/05/2025-0611-BAH-Prestige-Plumbing-flyer.jpg
ORGANIZER;CN="Burlington Chamber of Commerce":MAILTO:president@burlingtonctchamber.org
END:VEVENT
END:VCALENDAR